BEGIN:VCALENDAR
VERSION:2.0
PRODID:-//A Weekend in Norfolk - ECPv6.15.14//NONSGML v1.0//EN
CALSCALE:GREGORIAN
METHOD:PUBLISH
X-ORIGINAL-URL:https://weekendinnorfolk.org
X-WR-CALDESC:Events for A Weekend in Norfolk
REFRESH-INTERVAL;VALUE=DURATION:PT1H
X-Robots-Tag:noindex
X-PUBLISHED-TTL:PT1H
BEGIN:VTIMEZONE
TZID:America/New_York
BEGIN:DAYLIGHT
TZOFFSETFROM:-0500
TZOFFSETTO:-0400
TZNAME:EDT
DTSTART:20240310T070000
END:DAYLIGHT
BEGIN:STANDARD
TZOFFSETFROM:-0400
TZOFFSETTO:-0500
TZNAME:EST
DTSTART:20241103T060000
END:STANDARD
BEGIN:DAYLIGHT
TZOFFSETFROM:-0500
TZOFFSETTO:-0400
TZNAME:EDT
DTSTART:20250309T070000
END:DAYLIGHT
BEGIN:STANDARD
TZOFFSETFROM:-0400
TZOFFSETTO:-0500
TZNAME:EST
DTSTART:20251102T060000
END:STANDARD
BEGIN:DAYLIGHT
TZOFFSETFROM:-0500
TZOFFSETTO:-0400
TZNAME:EDT
DTSTART:20260308T070000
END:DAYLIGHT
BEGIN:STANDARD
TZOFFSETFROM:-0400
TZOFFSETTO:-0500
TZNAME:EST
DTSTART:20261101T060000
END:STANDARD
BEGIN:DAYLIGHT
TZOFFSETFROM:-0500
TZOFFSETTO:-0400
TZNAME:EDT
DTSTART:20270314T070000
END:DAYLIGHT
BEGIN:STANDARD
TZOFFSETFROM:-0400
TZOFFSETTO:-0500
TZNAME:EST
DTSTART:20271107T060000
END:STANDARD
END:VTIMEZONE
BEGIN:VEVENT
DTSTART;TZID=America/New_York:20260222T090000
DTEND;TZID=America/New_York:20260222T150000
DTSTAMP:20260421T075305
CREATED:20250129T024227Z
LAST-MODIFIED:20260118T172457Z
UID:6481-1771750800-1771772400@weekendinnorfolk.org
SUMMARY:Fly-tying Workshop
DESCRIPTION:Expert fly fisherman Doug McDevitt is holding a special six-hour\, hands-on workshop for fishing enthusiasts at any level of experience. Doug will demonstrate the art and science of tying different flies\, discuss fishing and offer his tips on where to go for the best experience. Participants are welcome to drop in any time to learn Doug’s techniques and to share their own stories and tips with other attendees.
URL:https://weekendinnorfolk.org/event/fly-tying-workshop/
LOCATION:Norfolk Hub\, 2 Station Place\, Norfolk\, CT\, 06058
CATEGORIES:Demonstration,Discussion with audience,Family,Fishing,Hands on participation,Kids,Lesson,Nature,Workshop
END:VEVENT
BEGIN:VEVENT
DTSTART;TZID=America/New_York:20250803T150000
DTEND;TZID=America/New_York:20250803T170000
DTSTAMP:20260421T075305
CREATED:20240623T190357Z
LAST-MODIFIED:20250717T004736Z
UID:6331-1754233200-1754240400@weekendinnorfolk.org
SUMMARY:Fly-Fishing Seminar
DESCRIPTION:Expert fisherman Doug McDevitt will demonstrate the art of casting and fly tying and share many tips and tricks for successful fly fishing. The venue: Wood Creek Pond. Equipment will be loaned for the occasion courtesy of Orvis‘s Avon store and volunteers from Trout Unlimited will assist. Spaces for the hands-on lessons are limited. \nSessions start at 9:00 a.m.\, 1:00 p.m. and 3:00 p.m. Saturday and Sunday. A special clinic on Spey casting starts at 11:00 a.m. both days. Rain or shine. \nSign up here. Individuals who show up for lessons unregistered will be accommodated (on a first-come\, first-served basis) only if there are unfilled slots or last-minute no-shows. Thank you!
URL:https://weekendinnorfolk.org/event/fly-fishing-seminar-6/
LOCATION:Wood Creek Pond\, 428 Ashpohtag Road\, Norfolk\, Connecticut\, 06058
CATEGORIES:Family,Fishing,Hands on participation,Kids,Lesson,Outdoor activity,Sport
END:VEVENT
BEGIN:VEVENT
DTSTART;TZID=America/New_York:20250803T130000
DTEND;TZID=America/New_York:20250803T150000
DTSTAMP:20260421T075305
CREATED:20240623T190038Z
LAST-MODIFIED:20250717T004711Z
UID:6330-1754226000-1754233200@weekendinnorfolk.org
SUMMARY:Fly-Fishing Seminar
DESCRIPTION:Expert fisherman Doug McDevitt will demonstrate the art of casting and fly tying and share many tips and tricks for successful fly fishing. The venue: Wood Creek Pond. Equipment will be loaned for the occasion courtesy of Orvis‘s Avon store and volunteers from Trout Unlimited will assist. Spaces for the hands-on lessons are limited. \nSessions start at 9:00 a.m.\, 1:00 p.m. and 3:00 p.m. Saturday and Sunday. A special clinic on Spey casting starts at 11:00 a.m. both days. Rain or shine. \nSign up here. Individuals who show up for lessons unregistered will be accommodated (on a first-come\, first-served basis) only if there are unfilled slots or last-minute no-shows. Thank you!
URL:https://weekendinnorfolk.org/event/fly-fishing-seminar-5/
LOCATION:Wood Creek Pond\, 428 Ashpohtag Road\, Norfolk\, Connecticut\, 06058
CATEGORIES:Family,Fishing,Hands on participation,Kids,Lesson,Outdoor activity,Sport
END:VEVENT
BEGIN:VEVENT
DTSTART;TZID=America/New_York:20250803T110000
DTEND;TZID=America/New_York:20250803T120000
DTSTAMP:20260421T075305
CREATED:20240622T230835Z
LAST-MODIFIED:20250722T000551Z
UID:6318-1754218800-1754222400@weekendinnorfolk.org
SUMMARY:Fly Fishing: Spey Casting Clinic
DESCRIPTION:Expert fisherman Doug McDevitt will demonstrate the art of Spey casting. The venue: Wood Creek Pond. Equipment will be loaned for the occasion courtesy of Orvis‘s Avon store and spaces for the hands-on lessons are limited. \nDoug will also hold fly fishing seminars at 9:00 a.m.\, 1:00 p.m. and 3:00 p.m. both Saturday and Sunday. There are casting clinics both days at 11:00 a.m. Rain or shine. \nSign up for the fly fishing seminars here. Individuals who show up for lessons unregistered will be accommodated (on a first-come\, first-served basis) only if there are unfilled slots or last-minute no-shows. Thank you!
URL:https://weekendinnorfolk.org/event/fly-fishing-spey-casting-clinic-2/
LOCATION:Wood Creek Pond\, 428 Ashpohtag Road\, Norfolk\, Connecticut\, 06058
CATEGORIES:Family,Fishing,Hands on participation,Kids,Outdoor activity
END:VEVENT
BEGIN:VEVENT
DTSTART;TZID=America/New_York:20250803T090000
DTEND;TZID=America/New_York:20250803T110000
DTSTAMP:20260421T075305
CREATED:20240604T201557Z
LAST-MODIFIED:20250717T004638Z
UID:6270-1754211600-1754218800@weekendinnorfolk.org
SUMMARY:Fly-Fishing Seminar
DESCRIPTION:Expert fisherman Doug McDevitt will demonstrate the art of casting and fly tying and share many tips and tricks for successful fly fishing. The venue: Wood Creek Pond. Equipment will be loaned for the occasion courtesy of Orvis‘s Avon store and volunteers from Trout Unlimited will assist. Spaces for the hands-on lessons are limited. \nSessions start at 9:00 a.m.\, 1:00 p.m. and 3:00 p.m. Saturday and Sunday. A special clinic on Spey casting starts at 11:00 a.m. both days. Rain or shine. \nSign up here. Individuals who show up for lessons unregistered will be accommodated (on a first-come\, first-served basis) only if there are unfilled slots or last-minute no-shows. Thank you!
URL:https://weekendinnorfolk.org/event/fly-fishing-seminar-2/
LOCATION:Wood Creek Pond\, 428 Ashpohtag Road\, Norfolk\, Connecticut\, 06058
CATEGORIES:Family,Fishing,Hands on participation,Kids,Lesson,Outdoor activity,Sport
END:VEVENT
BEGIN:VEVENT
DTSTART;TZID=America/New_York:20250802T150000
DTEND;TZID=America/New_York:20250802T170000
DTSTAMP:20260421T075305
CREATED:20240622T225226Z
LAST-MODIFIED:20250717T004608Z
UID:6315-1754146800-1754154000@weekendinnorfolk.org
SUMMARY:Fly-Fishing Seminar
DESCRIPTION:Expert fisherman Doug McDevitt will demonstrate the art of casting and fly tying and share many tips and tricks for successful fly fishing. The venue: Wood Creek Pond. Equipment will be loaned for the occasion courtesy of Orvis‘s Avon store and volunteers from Trout Unlimited will assist. Spaces for the hands-on lessons are limited. \nSessions start at 9:00 a.m.\, 1:00 p.m. and 3:00 p.m. Saturday and Sunday. A special clinic on Spey casting starts at 11:00 a.m. both days. Rain or shine. \nSign up here. Individuals who show up for lessons unregistered will be accommodated (on a first-come\, first-served basis) only if there are unfilled slots or last-minute no-shows. Thank you!
URL:https://weekendinnorfolk.org/event/fly-fishing-seminar-4/
LOCATION:Wood Creek Pond\, 428 Ashpohtag Road\, Norfolk\, Connecticut\, 06058
CATEGORIES:Family,Fishing,Hands on participation,Kids,Lesson,Outdoor activity,Sport
END:VEVENT
BEGIN:VEVENT
DTSTART;TZID=America/New_York:20250802T130000
DTEND;TZID=America/New_York:20250802T150000
DTSTAMP:20260421T075305
CREATED:20240622T225111Z
LAST-MODIFIED:20250717T004538Z
UID:6314-1754139600-1754146800@weekendinnorfolk.org
SUMMARY:Fly-Fishing Seminar
DESCRIPTION:Expert fisherman Doug McDevitt will demonstrate the art of casting and fly tying and share many tips and tricks for successful fly fishing. The venue: Wood Creek Pond. Equipment will be loaned for the occasion courtesy of Orvis‘s Avon store and volunteers from Trout Unlimited will assist. Spaces for the hands-on lessons are limited. \nSessions start at 9:00 a.m.\, 1:00 p.m. and 3:00 p.m. Saturday and Sunday. A special clinic on Spey casting starts at 11:00 a.m. both days. Rain or shine. \nSign up here. Individuals who show up for lessons unregistered will be accommodated (on a first-come\, first-served basis) only if there are unfilled slots or last-minute no-shows. Thank you!
URL:https://weekendinnorfolk.org/event/fly-fishing-seminar-3/
LOCATION:Wood Creek Pond\, 428 Ashpohtag Road\, Norfolk\, Connecticut\, 06058
CATEGORIES:Family,Fishing,Hands on participation,Kids,Lesson,Outdoor activity,Sport
END:VEVENT
BEGIN:VEVENT
DTSTART;TZID=America/New_York:20250802T110000
DTEND;TZID=America/New_York:20250802T120000
DTSTAMP:20260421T075305
CREATED:20240622T230745Z
LAST-MODIFIED:20250722T000458Z
UID:6317-1754132400-1754136000@weekendinnorfolk.org
SUMMARY:Fly Fishing: Spey Casting Clinic
DESCRIPTION:Expert fisherman Doug McDevitt will demonstrate the art of Spey casting. The venue: Wood Creek Pond. Equipment will be loaned for the occasion courtesy of Orvis‘s Avon store and spaces for the hands-on lessons are limited. \nDoug will also hold fly fishing seminars at 9:00 a.m.\, 1:00 p.m. and 3:00 p.m. both Saturday and Sunday. There are casting clinics both days at 11:00 a.m. Rain or shine. \nSign up for the fly fishing seminars here. Individuals who show up for lessons unregistered will be accommodated (on a first-come\, first-served basis) only if there are unfilled slots or last-minute no-shows. Thank you!
URL:https://weekendinnorfolk.org/event/fly-fishing-spey-casting-clinic/
LOCATION:Wood Creek Pond\, 428 Ashpohtag Road\, Norfolk\, Connecticut\, 06058
CATEGORIES:Family,Fishing,Hands on participation,Kids,Outdoor activity
END:VEVENT
BEGIN:VEVENT
DTSTART;TZID=America/New_York:20250802T090000
DTEND;TZID=America/New_York:20250802T110000
DTSTAMP:20260421T075305
CREATED:20240604T201434Z
LAST-MODIFIED:20250717T004358Z
UID:6269-1754125200-1754132400@weekendinnorfolk.org
SUMMARY:Fly-Fishing Seminar
DESCRIPTION:Expert fisherman Doug McDevitt will demonstrate the art of casting and fly tying and share many tips and tricks for successful fly fishing. The venue: Wood Creek Pond. Equipment will be loaned for the occasion courtesy of Orvis‘s Avon store and volunteers from Trout Unlimited will assist. Spaces for the hands-on lessons are limited. \nSessions start at 9:00 a.m.\, 1:00 p.m. and 3:00 p.m. Saturday and Sunday. A special clinic on Spey casting starts at 11:00 a.m. both days. Rain or shine. \nSign up here. Individuals who show up for lessons unregistered will be accommodated (on a first-come\, first-served basis) only if there are unfilled slots or last-minute no-shows. Thank you!
URL:https://weekendinnorfolk.org/event/fly-fishing-seminar/
LOCATION:Wood Creek Pond\, 428 Ashpohtag Road\, Norfolk\, Connecticut\, 06058
CATEGORIES:Family,Fishing,Hands on participation,Kids,Lesson,Outdoor activity,Sport
END:VEVENT
BEGIN:VEVENT
DTSTART;TZID=America/New_York:20250223T100000
DTEND;TZID=America/New_York:20250223T150000
DTSTAMP:20260421T075305
CREATED:20250129T024535Z
LAST-MODIFIED:20250129T024535Z
UID:6515-1740304800-1740322800@weekendinnorfolk.org
SUMMARY:Fly-tying Workshop
DESCRIPTION:Expert fly fisherman Doug McDevitt is holding a special five-hour\, hands-on workshop for fishing enthusiasts at any level of experience. Doug will demonstrate the art and science of tying different flies\, discuss fishing and offer his tips on where to go for the best experience. Participants are welcome to drop in any time to learn Doug’s techniques and to share their own stories and tips with other attendees. \nSessions on both Saturday and Sunday.
URL:https://weekendinnorfolk.org/event/fly-tying-workshop-2/
LOCATION:Norfolk Hub\, 2 Station Place\, Norfolk\, CT\, 06058
CATEGORIES:Demonstration,Discussion with audience,Family,Fishing,Hands on participation,Kids,Lesson,Nature,Workshop
END:VEVENT
END:VCALENDAR